Workbook

Sheet 団体情報入力
B1: 団体情報入力シート
B3: 以下の団体（チーム）に関する基本情報を入力してください。
B5: 競技会名 | D5: =操作禁止３!$A$2 -> 第28回 北海道学生公認記録会
B6: 大会会期 | D6: =操作禁止３!$A$5 -> 45970 | E6: ～ | F6: =操作禁止３!$A$7 -> 45970
B7: 団体番号
B8: 団体正式名称
B9: 正式名称カナ
B10: 団体名略称
B11: 略称カナ（半角８文字以内）
B13: 住所郵便番号
B14: 住所詳細
B15: エントリー責任者氏名
B16: 責任者電話番号
B17: 責任者メールアドレス
B19: 本シートの入力が完了したら、「リレー種目エントリー入力シート」で参加する選手の情報を入力してください

Sheet 競技会申込集計表
B2: =団体情報入力!D8 -> 0
L3: =団体情報入力!D5 -> 第28回 北海道学生公認記録会
B5: 申込集計表
B7: 参加人数
B9: 合計 | C9: ﾘﾚｰのみ 合計 | E9: 男子 | F9: (ﾘﾚｰのみ) | H9: 女子 | I9: (ﾘﾚｰのみ)
B12: =$E$12+$H$12 -> 0 | C12: =$F$12+$I$12 -> 0 | E12: =COUNTIF(選手基本データ入力!$C10:$C59,"男子") -> 0 | F12: =COUNTIFS(選手基本データ入力!$C10:$C59,"男子",選手基本データ入力!$Q10:$Q59,"〇") -> 0 | H12: =COUNTIF(選手基本データ入力!$C10:$C59,"女子") -> 0 | I12: =COUNTIFS(選手基本データ入力!$C10:$C59,"女子",選手基本データ入力!$Q10:$Q59,"〇") -> 0
B14: 個人種目数
E15: （自動集計を行うとファイルが大変重くなるため）
B16: 合計
B19: =COUNTA(個人種目エントリー入力!$D8:$D307) -> 0
B21: リレー種目数
B23: 合計 | E23: 男子 | H23: 女子 | J23: 混合
B26: =$E$26+$H$26+$J$26 -> 0 | E26: =COUNTIF(リレー種目エントリー入力!$F8:$F57,"男子") -> 0 | H26: =COUNTIF(リレー種目エントリー入力!$F8:$F57,"女子") -> 0 | J26: =COUNTIF(リレー種目エントリー入力!$F8:$F57,"混合")+COUNTIF(リレー種目エントリー入力!$F8:$F57,"混成") -> 0
B30: 団体情報
B32: 正式名称 | F32: =団体情報入力!$D$8 -> 0
B34: 正式名称ヨミガナ | F34: =団体情報入力!D9 -> 0
B36: 所属名略称(プログラム掲載用) | F36: =団体情報入力!D10 -> 0
B38: 略称カナ(電光表示時使用) | F38: =団体情報入力!D11 -> 0
B41: 所在地 | F41: =団体情報入力!D13 & " " & 団体情報入力!D14
B43: エントリー責任者 | F43: =団体情報入力!D15 -> 0
B45: エントリー責任者電話番号 | F45: =団体情報入力!D16 -> 0
B47: エントリー責任者メールアドレス | F47: =団体情報入力!D17 -> 0

Sheet リレー種目エントリー入力
B1: リレー種目エントリー入力 | T1: 処理用（絶対に触らないでください！！取り込みができなくなります）
B2: リレー種目のエントリーを入力してください
B3: ※エントリーは詰めて記入してください！
B4: ※エントリー可能な種目以外も選択できますが、要項に記載の種目以外は開催しませんのでご注意ください。
U5: U | V5: V | W5: W | X5: X | Y5: Y | Z5: Z | AA5: AA
B6: No. | C6: 団体番号 | D6: チーム名 | E6: チーム名カナ | F6: 性別 | G6: 種目 | H6: 距離 | I6: 学種 | J6: エントリータイム | M6: クラス番号 | Z6: ※TXT用 | AA6: ※TXT用
J7: 分 | K7: 秒 | L7: 00 | O7: クラス一覧 | U7: 所属番号 | V7: 加盟団体番号 | W7: 学種コード | X7: 性別コード | Y7: 種目コード | Z7: 距離コード | AA7: エントリータイム | AB7: クラス番号
B8: 1 | C8: =IF($G8="","",ASC(団体情報入力!$D$7)) | D8: =IF($G8="","",団体情報入力!$D$10) | E8: =IF($G8="","",団体情報入力!$D$11) | O8: クラス番号 | P8: クラス名称 | U8: =IF($G8="","",RIGHT($C8,3)) | V8: =IF($G8="","",IF(LEN($C8)=4,"0"&LEFT($C8,1),LEFT($C8,2))) | W8: =IF($G8="","", IF(リレー種目エントリー入力!$I8="幼児",5, IF(リレー種目エントリー入力!$I8="小学",1, IF(リレー種目エントリー入力!$I8="中学",2, IF(リレー種目エントリー入力!$I8="高校",3, IF(リレー種目エントリー入力!$I8="大学",4, IF(リレー種目エントリー入力!$I8="一般",5, IF(リレー種目エントリー入力!$I8="高専",6, 5 )))))))) | X8: =IF(リレー種目エントリー入力!$F8="男子",1, IF(リレー種目エントリー入力!$F8="女子",2, IF(リレー種目エントリー入力!$F8="混成",3, IF(リレー種目エントリー入力!$F8="混合",4, "" )))) | Y8: =IF($G8="","", IF(リレー種目エントリー入力!$G8="フリーリレー",6,7)) | Z8: =IF(リレー種目エントリー入力!$H8="４×25m",3, IF(リレー種目エントリー入力!$H8="４×50m",4, IF(リレー種目エントリー入力!$H8="４×100m",5, IF(リレー種目エントリー入力!$H8="４×200m",6, IF(リレー種目エントリー入力!$H8="４×375m",7, IF(リレー種目エントリー入力!$H8="４×75m",8, "")))))) | AA8: =IF($G8="","",IF(AND(リレー種目エントリー入力!$J8="",リレー種目エントリー入力!$K8="",リレー種目エントリー入力!$L8=""),"99:59:99", ASC($J8)& IF($J8="","",":") & IF(LEN(リレー種目エントリー入力!$K8)=0,"00",IF(LEN(リレー種目エントリー入力!$K8)=1,"0"&ASC($K8),ASC($K8)))&"."& IF(LEN(リレー種目エントリー入力!$L8)=0,"00",IF(LEN(リレー種目エントリー入力!$L8)=1,"0"&ASC($L8),ASC($L8))))) | AB8: =ASC(M8)
B9: 2 | C9: =IF($G9="","",ASC(団体情報入力!$D$7)) | D9: =IF($G9="","",団体情報入力!$D$10) | E9: =IF($G9="","",団体情報入力!$D$11) | O9: 03 | P9: 北海道（対抗戦正式） | U9: =IF($G9="","",RIGHT($C9,3)) | V9: =IF($G9="","",IF(LEN($C9)=4,"0"&LEFT($C9,1),LEFT($C9,2))) | W9: =IF($G9="","", IF(リレー種目エントリー入力!$I9="幼児",5, IF(リレー種目エントリー入力!$I9="小学",1, IF(リレー種目エントリー入力!$I9="中学",2, IF(リレー種目エントリー入力!$I9="高校",3, IF(リレー種目エントリー入力!$I9="大学",4, IF(リレー種目エントリー入力!$I9="一般",5, IF(リレー種目エントリー入力!$I9="高専",6, 5 )))))))) | X9: =IF(リレー種目エントリー入力!$F9="男子",1, IF(リレー種目エントリー入力!$F9="女子",2, IF(リレー種目エントリー入力!$F9="混成",3, IF(リレー種目エントリー入力!$F9="混合",4, "" )))) | Y9: =IF($G9="","", IF(リレー種目エントリー入力!$G9="フリーリレー",6,7)) | Z9: =IF(リレー種目エントリー入力!$H9="４×25m",3, IF(リレー種目エントリー入力!$H9="４×50m",4, IF(リレー種目エントリー入力!$H9="４×100m",5, IF(リレー種目エントリー入力!$H9="４×200m",6, IF(リレー種目エントリー入力!$H9="４×375m",7, IF(リレー種目エントリー入力!$H9="４×75m",8, "")))))) | AA9: =IF($G9="","",IF(AND(リレー種目エントリー入力!$J9="",リレー種目エントリー入力!$K9="",リレー種目エントリー入力!$L9=""),"99:59:99", ASC($J9)& IF($J9="","",":") & IF(LEN(リレー種目エントリー入力!$K9)=0,"00",IF(LEN(リレー種目エントリー入力!$K9)=1,"0"&ASC($K9),ASC($K9)))&"."& IF(LEN(リレー種目エントリー入力!$L9)=0,"00",IF(LEN(リレー種目エントリー入力!$L9)=1,"0"&ASC($L9),ASC($L9))))) | AB9: =ASC(M9)
B10: 3 | C10: =IF($G10="","",ASC(団体情報入力!$D$7)) | D10: =IF($G10="","",団体情報入力!$D$10) | E10: =IF($G10="","",団体情報入力!$D$11) | O10: 05 | P10: 北海道OP | U10: =IF($G10="","",RIGHT($C10,3)) | V10: =IF($G10="","",IF(LEN($C10)=4,"0"&LEFT($C10,1),LEFT($C10,2))) | W10: =IF($G10="","", IF(リレー種目エントリー入力!$I10="幼児",5, IF(リレー種目エントリー入力!$I10="小学",1, IF(リレー種目エントリー入力!$I10="中学",2, IF(リレー種目エントリー入力!$I10="高校",3, IF(リレー種目エントリー入力!$I10="大学",4, IF(リレー種目エントリー入力!$I10="一般",5, IF(リレー種目エントリー入力!$I10="高専",6, 5 )))))))) | X10: =IF(リレー種目エントリー入力!$F10="男子",1, IF(リレー種目エントリー入力!$F10="女子",2, IF(リレー種目エントリー入力!$F10="混成",3, IF(リレー種目エントリー入力!$F10="混合",4, "" )))) | Y10: =IF($G10="","", IF(リレー種目エントリー入力!$G10="フリーリレー",6,7)) | Z10: =IF(リレー種目エントリー入力!$H10="４×25m",3, IF(リレー種目エントリー入力!$H10="４×50m",4, IF(リレー種目エントリー入力!$H10="４×100m",5, IF(リレー種目エントリー入力!$H10="４×200m",6, IF(リレー種目エントリー入力!$H10="４×375m",7, IF(リレー種目エントリー入力!$H10="４×75m",8, "")))))) | AA10: =IF($G10="","",IF(AND(リレー種目エントリー入力!$J10="",リレー種目エントリー入力!$K10="",リレー種目エントリー入力!$L10=""),"99:59:99", ASC($J10)& IF($J10="","",":") & IF(LEN(リレー種目エントリー入力!$K10)=0,"00",IF(LEN(リレー種目エントリー入力!$K10)=1,"0"&ASC($K10),ASC($K10)))&"."& IF(LEN(リレー種目エントリー入力!$L10)=0,"00",IF(LEN(リレー種目エントリー入力!$L10)=1,"0"&ASC($L10),ASC($L10))))) | AB10: =ASC(M10)
B11: 4 | C11: =IF($G11="","",ASC(団体情報入力!$D$7)) | D11: =IF($G11="","",団体情報入力!$D$10) | E11: =IF($G11="","",団体情報入力!$D$11) | U11: =IF($G11="","",RIGHT($C11,3)) | V11: =IF($G11="","",IF(LEN($C11)=4,"0"&LEFT($C11,1),LEFT($C11,2))) | W11: =IF($G11="","", IF(リレー種目エントリー入力!$I11="幼児",5, IF(リレー種目エントリー入力!$I11="小学",1, IF(リレー種目エントリー入力!$I11="中学",2, IF(リレー種目エントリー入力!$I11="高校",3, IF(リレー種目エントリー入力!$I11="大学",4, IF(リレー種目エントリー入力!$I11="一般",5, IF(リレー種目エントリー入力!$I11="高専",6, 5 )))))))) | X11: =IF(リレー種目エントリー入力!$F11="男子",1, IF(リレー種目エントリー入力!$F11="女子",2, IF(リレー種目エントリー入力!$F11="混成",3, IF(リレー種目エントリー入力!$F11="混合",4, "" )))) | Y11: =IF($G11="","", IF(リレー種目エントリー入力!$G11="フリーリレー",6,7)) | Z11: =IF(リレー種目エントリー入力!$H11="４×25m",3, IF(リレー種目エントリー入力!$H11="４×50m",4, IF(リレー種目エントリー入力!$H11="４×100m",5, IF(リレー種目エントリー入力!$H11="４×200m",6, IF(リレー種目エントリー入力!$H11="４×375m",7, IF(リレー種目エントリー入力!$H11="４×75m",8, "")))))) | AA11: =IF($G11="","",IF(AND(リレー種目エントリー入力!$J11="",リレー種目エントリー入力!$K11="",リレー種目エントリー入力!$L11=""),"99:59:99", ASC($J11)& IF($J11="","",":") & IF(LEN(リレー種目エントリー入力!$K11)=0,"00",IF(LEN(リレー種目エントリー入力!$K11)=1,"0"&ASC($K11),ASC($K11)))&"."& IF(LEN(リレー種目エントリー入力!$L11)=0,"00",IF(LEN(リレー種目エントリー入力!$L11)=1,"0"&ASC($L11),ASC($L11))))) | AB11: =ASC(M11)
B12: 5 | C12: =IF($G12="","",ASC(団体情報入力!$D$7)) | D12: =IF($G12="","",団体情報入力!$D$10) | E12: =IF($G12="","",団体情報入力!$D$11) | U12: =IF($G12="","",RIGHT($C12,3)) | V12: =IF($G12="","",IF(LEN($C12)=4,"0"&LEFT($C12,1),LEFT($C12,2))) | W12: =IF($G12="","", IF(リレー種目エントリー入力!$I12="幼児",5, IF(リレー種目エントリー入力!$I12="小学",1, IF(リレー種目エントリー入力!$I12="中学",2, IF(リレー種目エントリー入力!$I12="高校",3, IF(リレー種目エントリー入力!$I12="大学",4, IF(リレー種目エントリー入力!$I12="一般",5, IF(リレー種目エントリー入力!$I12="高専",6, 5 )))))))) | X12: =IF(リレー種目エントリー入力!$F12="男子",1, IF(リレー種目エントリー入力!$F12="女子",2, IF(リレー種目エントリー入力!$F12="混成",3, IF(リレー種目エントリー入力!$F12="混合",4, "" )))) | Y12: =IF($G12="","", IF(リレー種目エントリー入力!$G12="フリーリレー",6,7)) | Z12: =IF(リレー種目エントリー入力!$H12="４×25m",3, IF(リレー種目エントリー入力!$H12="４×50m",4, IF(リレー種目エントリー入力!$H12="４×100m",5, IF(リレー種目エントリー入力!$H12="４×200m",6, IF(リレー種目エントリー入力!$H12="４×375m",7, IF(リレー種目エントリー入力!$H12="４×75m",8, "")))))) | AA12: =IF($G12="","",IF(AND(リレー種目エントリー入力!$J12="",リレー種目エントリー入力!$K12="",リレー種目エントリー入力!$L12=""),"99:59:99", ASC($J12)& IF($J12="","",":") & IF(LEN(リレー種目エントリー入力!$K12)=0,"00",IF(LEN(リレー種目エントリー入力!$K12)=1,"0"&ASC($K12),ASC($K12)))&"."& IF(LEN(リレー種目エントリー入力!$L12)=0,"00",IF(LEN(リレー種目エントリー入力!$L12)=1,"0"&ASC($L12),ASC($L12))))) | AB12: =ASC(M12)
B13: 6 | C13: =IF($G13="","",ASC(団体情報入力!$D$7)) | D13: =IF($G13="","",団体情報入力!$D$10) | E13: =IF($G13="","",団体情報入力!$D$11) | U13: =IF($G13="","",RIGHT($C13,3)) | V13: =IF($G13="","",IF(LEN($C13)=4,"0"&LEFT($C13,1),LEFT($C13,2))) | W13: =IF($G13="","", IF(リレー種目エントリー入力!$I13="幼児",5, IF(リレー種目エントリー入力!$I13="小学",1, IF(リレー種目エントリー入力!$I13="中学",2, IF(リレー種目エントリー入力!$I13="高校",3, IF(リレー種目エントリー入力!$I13="大学",4, IF(リレー種目エントリー入力!$I13="一般",5, IF(リレー種目エントリー入力!$I13="高専",6, 5 )))))))) | X13: =IF(リレー種目エントリー入力!$F13="男子",1, IF(リレー種目エントリー入力!$F13="女子",2, IF(リレー種目エントリー入力!$F13="混成",3, IF(リレー種目エントリー入力!$F13="混合",4, "" )))) | Y13: =IF($G13="","", IF(リレー種目エントリー入力!$G13="フリーリレー",6,7)) | Z13: =IF(リレー種目エントリー入力!$H13="４×25m",3, IF(リレー種目エントリー入力!$H13="４×50m",4, IF(リレー種目エントリー入力!$H13="４×100m",5, IF(リレー種目エントリー入力!$H13="４×200m",6, IF(リレー種目エントリー入力!$H13="４×375m",7, IF(リレー種目エントリー入力!$H13="４×75m",8, "")))))) | AA13: =IF($G13="","",IF(AND(リレー種目エントリー入力!$J13="",リレー種目エントリー入力!$K13="",リレー種目エントリー入力!$L13=""),"99:59:99", ASC($J13)& IF($J13="","",":") & IF(LEN(リレー種目エントリー入力!$K13)=0,"00",IF(LEN(リレー種目エントリー入力!$K13)=1,"0"&ASC($K13),ASC($K13)))&"."& IF(LEN(リレー種目エントリー入力!$L13)=0,"00",IF(LEN(リレー種目エントリー入力!$L13)=1,"0"&ASC($L13),ASC($L13))))) | AB13: =ASC(M13)
B14: 7 | C14: =IF($G14="","",ASC(団体情報入力!$D$7)) | D14: =IF($G14="","",団体情報入力!$D$10) | E14: =IF($G14="","",団体情報入力!$D$11) | U14: =IF($G14="","",RIGHT($C14,3)) | V14: =IF($G14="","",IF(LEN($C14)=4,"0"&LEFT($C14,1),LEFT($C14,2))) | W14: =IF($G14="","", IF(リレー種目エントリー入力!$I14="幼児",5, IF(リレー種目エントリー入力!$I14="小学",1, IF(リレー種目エントリー入力!$I14="中学",2, IF(リレー種目エントリー入力!$I14="高校",3, IF(リレー種目エントリー入力!$I14="大学",4, IF(リレー種目エントリー入力!$I14="一般",5, IF(リレー種目エントリー入力!$I14="高専",6, 5 )))))))) | X14: =IF(リレー種目エントリー入力!$F14="男子",1, IF(リレー種目エントリー入力!$F14="女子",2, IF(リレー種目エントリー入力!$F14="混成",3, IF(リレー種目エントリー入力!$F14="混合",4, "" )))) | Y14: =IF($G14="","", IF(リレー種目エントリー入力!$G14="フリーリレー",6,7)) | Z14: =IF(リレー種目エントリー入力!$H14="４×25m",3, IF(リレー種目エントリー入力!$H14="４×50m",4, IF(リレー種目エントリー入力!$H14="４×100m",5, IF(リレー種目エントリー入力!$H14="４×200m",6, IF(リレー種目エントリー入力!$H14="４×375m",7, IF(リレー種目エントリー入力!$H14="４×75m",8, "")))))) | AA14: =IF($G14="","",IF(AND(リレー種目エントリー入力!$J14="",リレー種目エントリー入力!$K14="",リレー種目エントリー入力!$L14=""),"99:59:99", ASC($J14)& IF($J14="","",":") & IF(LEN(リレー種目エントリー入力!$K14)=0,"00",IF(LEN(リレー種目エントリー入力!$K14)=1,"0"&ASC($K14),ASC($K14)))&"."& IF(LEN(リレー種目エントリー入力!$L14)=0,"00",IF(LEN(リレー種目エントリー入力!$L14)=1,"0"&ASC($L14),ASC($L14))))) | AB14: =ASC(M14)
B15: 8 | C15: =IF($G15="","",ASC(団体情報入力!$D$7)) | D15: =IF($G15="","",団体情報入力!$D$10) | E15: =IF($G15="","",団体情報入力!$D$11) | U15: =IF($G15="","",RIGHT($C15,3)) | V15: =IF($G15="","",IF(LEN($C15)=4,"0"&LEFT($C15,1),LEFT($C15,2))) | W15: =IF($G15="","", IF(リレー種目エントリー入力!$I15="幼児",5, IF(リレー種目エントリー入力!$I15="小学",1, IF(リレー種目エントリー入力!$I15="中学",2, IF(リレー種目エントリー入力!$I15="高校",3, IF(リレー種目エントリー入力!$I15="大学",4, IF(リレー種目エントリー入力!$I15="一般",5, IF(リレー種目エントリー入力!$I15="高専",6, 5 )))))))) | X15: =IF(リレー種目エントリー入力!$F15="男子",1, IF(リレー種目エントリー入力!$F15="女子",2, IF(リレー種目エントリー入力!$F15="混成",3, IF(リレー種目エントリー入力!$F15="混合",4, "" )))) | Y15: =IF($G15="","", IF(リレー種目エントリー入力!$G15="フリーリレー",6,7)) | Z15: =IF(リレー種目エントリー入力!$H15="４×25m",3, IF(リレー種目エントリー入力!$H15="４×50m",4, IF(リレー種目エントリー入力!$H15="４×100m",5, IF(リレー種目エントリー入力!$H15="４×200m",6, IF(リレー種目エントリー入力!$H15="４×375m",7, IF(リレー種目エントリー入力!$H15="４×75m",8, "")))))) | AA15: =IF($G15="","",IF(AND(リレー種目エントリー入力!$J15="",リレー種目エントリー入力!$K15="",リレー種目エントリー入力!$L15=""),"99:59:99", ASC($J15)& IF($J15="","",":") & IF(LEN(リレー種目エントリー入力!$K15)=0,"00",IF(LEN(リレー種目エントリー入力!$K15)=1,"0"&ASC($K15),ASC($K15)))&"."& IF(LEN(リレー種目エントリー入力!$L15)=0,"00",IF(LEN(リレー種目エントリー入力!$L15)=1,"0"&ASC($L15),ASC($L15))))) | AB15: =ASC(M15)
B16: 9 | C16: =IF($G16="","",ASC(団体情報入力!$D$7)) | D16: =IF($G16="","",団体情報入力!$D$10) | E16: =IF($G16="","",団体情報入力!$D$11) | U16: =IF($G16="","",RIGHT($C16,3)) | V16: =IF($G16="","",IF(LEN($C16)=4,"0"&LEFT($C16,1),LEFT($C16,2))) | W16: =IF($G16="","", IF(リレー種目エントリー入力!$I16="幼児",5, IF(リレー種目エントリー入力!$I16="小学",1, IF(リレー種目エントリー入力!$I16="中学",2, IF(リレー種目エントリー入力!$I16="高校",3, IF(リレー種目エントリー入力!$I16="大学",4, IF(リレー種目エントリー入力!$I16="一般",5, IF(リレー種目エントリー入力!$I16="高専",6, 5 )))))))) | X16: =IF(リレー種目エントリー入力!$F16="男子",1, IF(リレー種目エントリー入力!$F16="女子",2, IF(リレー種目エントリー入力!$F16="混成",3, IF(リレー種目エントリー入力!$F16="混合",4, "" )))) | Y16: =IF($G16="","", IF(リレー種目エントリー入力!$G16="フリーリレー",6,7)) | Z16: =IF(リレー種目エントリー入力!$H16="４×25m",3, IF(リレー種目エントリー入力!$H16="４×50m",4, IF(リレー種目エントリー入力!$H16="４×100m",5, IF(リレー種目エントリー入力!$H16="４×200m",6, IF(リレー種目エントリー入力!$H16="４×375m",7, IF(リレー種目エントリー入力!$H16="４×75m",8, "")))))) | AA16: =IF($G16="","",IF(AND(リレー種目エントリー入力!$J16="",リレー種目エントリー入力!$K16="",リレー種目エントリー入力!$L16=""),"99:59:99", ASC($J16)& IF($J16="","",":") & IF(LEN(リレー種目エントリー入力!$K16)=0,"00",IF(LEN(リレー種目エントリー入力!$K16)=1,"0"&ASC($K16),ASC($K16)))&"."& IF(LEN(リレー種目エントリー入力!$L16)=0,"00",IF(LEN(リレー種目エントリー入力!$L16)=1,"0"&ASC($L16),ASC($L16))))) | AB16: =ASC(M16)
B17: 10 | C17: =IF($G17="","",ASC(団体情報入力!$D$7)) | D17: =IF($G17="","",団体情報入力!$D$10) | E17: =IF($G17="","",団体情報入力!$D$11) | U17: =IF($G17="","",RIGHT($C17,3)) | V17: =IF($G17="","",IF(LEN($C17)=4,"0"&LEFT($C17,1),LEFT($C17,2))) | W17: =IF($G17="","", IF(リレー種目エントリー入力!$I17="幼児",5, IF(リレー種目エントリー入力!$I17="小学",1, IF(リレー種目エントリー入力!$I17="中学",2, IF(リレー種目エントリー入力!$I17="高校",3, IF(リレー種目エントリー入力!$I17="大学",4, IF(リレー種目エントリー入力!$I17="一般",5, IF(リレー種目エントリー入力!$I17="高専",6, 5 )))))))) | X17: =IF(リレー種目エントリー入力!$F17="男子",1, IF(リレー種目エントリー入力!$F17="女子",2, IF(リレー種目エントリー入力!$F17="混成",3, IF(リレー種目エントリー入力!$F17="混合",4, "" )))) | Y17: =IF($G17="","", IF(リレー種目エントリー入力!$G17="フリーリレー",6,7)) | Z17: =IF(リレー種目エントリー入力!$H17="４×25m",3, IF(リレー種目エントリー入力!$H17="４×50m",4, IF(リレー種目エントリー入力!$H17="４×100m",5, IF(リレー種目エントリー入力!$H17="４×200m",6, IF(リレー種目エントリー入力!$H17="４×375m",7, IF(リレー種目エントリー入力!$H17="４×75m",8, "")))))) | AA17: =IF($G17="","",IF(AND(リレー種目エントリー入力!$J17="",リレー種目エントリー入力!$K17="",リレー種目エントリー入力!$L17=""),"99:59:99", ASC($J17)& IF($J17="","",":") & IF(LEN(リレー種目エントリー入力!$K17)=0,"00",IF(LEN(リレー種目エントリー入力!$K17)=1,"0"&ASC($K17),ASC($K17)))&"."& IF(LEN(リレー種目エントリー入力!$L17)=0,"00",IF(LEN(リレー種目エントリー入力!$L17)=1,"0"&ASC($L17),ASC($L17))))) | AB17: =ASC(M17)
B18: 11 | C18: =IF($G18="","",ASC(団体情報入力!$D$7)) | D18: =IF($G18="","",団体情報入力!$D$10) | E18: =IF($G18="","",団体情報入力!$D$11) | U18: =IF($G18="","",RIGHT($C18,3)) | V18: =IF($G18="","",IF(LEN($C18)=4,"0"&LEFT($C18,1),LEFT($C18,2))) | W18: =IF($G18="","", IF(リレー種目エントリー入力!$I18="幼児",5, IF(リレー種目エントリー入力!$I18="小学",1, IF(リレー種目エントリー入力!$I18="中学",2, IF(リレー種目エントリー入力!$I18="高校",3, IF(リレー種目エントリー入力!$I18="大学",4, IF(リレー種目エントリー入力!$I18="一般",5, IF(リレー種目エントリー入力!$I18="高専",6, 5 )))))))) | X18: =IF(リレー種目エントリー入力!$F18="男子",1, IF(リレー種目エントリー入力!$F18="女子",2, IF(リレー種目エントリー入力!$F18="混成",3, IF(リレー種目エントリー入力!$F18="混合",4, "" )))) | Y18: =IF($G18="","", IF(リレー種目エントリー入力!$G18="フリーリレー",6,7)) | Z18: =IF(リレー種目エントリー入力!$H18="４×25m",3, IF(リレー種目エントリー入力!$H18="４×50m",4, IF(リレー種目エントリー入力!$H18="４×100m",5, IF(リレー種目エントリー入力!$H18="４×200m",6, IF(リレー種目エントリー入力!$H18="４×375m",7, IF(リレー種目エントリー入力!$H18="４×75m",8, "")))))) | AA18: =IF($G18="","",IF(AND(リレー種目エントリー入力!$J18="",リレー種目エントリー入力!$K18="",リレー種目エントリー入力!$L18=""),"99:59:99", ASC($J18)& IF($J18="","",":") & IF(LEN(リレー種目エントリー入力!$K18)=0,"00",IF(LEN(リレー種目エントリー入力!$K18)=1,"0"&ASC($K18),ASC($K18)))&"."& IF(LEN(リレー種目エントリー入力!$L18)=0,"00",IF(LEN(リレー種目エントリー入力!$L18)=1,"0"&ASC($L18),ASC($L18))))) | AB18: =ASC(M18)
B19: 12 | C19: =IF($G19="","",ASC(団体情報入力!$D$7)) | D19: =IF($G19="","",団体情報入力!$D$10) | E19: =IF($G19="","",団体情報入力!$D$11) | U19: =IF($G19="","",RIGHT($C19,3)) | V19: =IF($G19="","",IF(LEN($C19)=4,"0"&LEFT($C19,1),LEFT($C19,2))) | W19: =IF($G19="","", IF(リレー種目エントリー入力!$I19="幼児",5, IF(リレー種目エントリー入力!$I19="小学",1, IF(リレー種目エントリー入力!$I19="中学",2, IF(リレー種目エントリー入力!$I19="高校",3, IF(リレー種目エントリー入力!$I19="大学",4, IF(リレー種目エントリー入力!$I19="一般",5, IF(リレー種目エントリー入力!$I19="高専",6, 5 )))))))) | X19: =IF(リレー種目エントリー入力!$F19="男子",1, IF(リレー種目エントリー入力!$F19="女子",2, IF(リレー種目エントリー入力!$F19="混成",3, IF(リレー種目エントリー入力!$F19="混合",4, "" )))) | Y19: =IF($G19="","", IF(リレー種目エントリー入力!$G19="フリーリレー",6,7)) | Z19: =IF(リレー種目エントリー入力!$H19="４×25m",3, IF(リレー種目エントリー入力!$H19="４×50m",4, IF(リレー種目エントリー入力!$H19="４×100m",5, IF(リレー種目エントリー入力!$H19="４×200m",6, IF(リレー種目エントリー入力!$H19="４×375m",7, IF(リレー種目エントリー入力!$H19="４×75m",8, "")))))) | AA19: =IF($G19="","",IF(AND(リレー種目エントリー入力!$J19="",リレー種目エントリー入力!$K19="",リレー種目エントリー入力!$L19=""),"99:59:99", ASC($J19)& IF($J19="","",":") & IF(LEN(リレー種目エントリー入力!$K19)=0,"00",IF(LEN(リレー種目エントリー入力!$K19)=1,"0"&ASC($K19),ASC($K19)))&"."& IF(LEN(リレー種目エントリー入力!$L19)=0,"00",IF(LEN(リレー種目エントリー入力!$L19)=1,"0"&ASC($L19),ASC($L19))))) | AB19: =ASC(M19)
B20: 13 | C20: =IF($G20="","",ASC(団体情報入力!$D$7)) | D20: =IF($G20="","",団体情報入力!$D$10) | E20: =IF($G20="","",団体情報入力!$D$11) | U20: =IF($G20="","",RIGHT($C20,3)) | V20: =IF($G20="","",IF(LEN($C20)=4,"0"&LEFT($C20,1),LEFT($C20,2))) | W20: =IF($G20="","", IF(リレー種目エントリー入力!$I20="幼児",5, IF(リレー種目エントリー入力!$I20="小学",1, IF(リレー種目エントリー入力!$I20="中学",2, IF(リレー種目エントリー入力!$I20="高校",3, IF(リレー種目エントリー入力!$I20="大学",4, IF(リレー種目エントリー入力!$I20="一般",5, IF(リレー種目エントリー入力!$I20="高専",6, 5 )))))))) | X20: =IF(リレー種目エントリー入力!$F20="男子",1, IF(リレー種目エントリー入力!$F20="女子",2, IF(リレー種目エントリー入力!$F20="混成",3, IF(リレー種目エントリー入力!$F20="混合",4, "" )))) | Y20: =IF($G20="","", IF(リレー種目エントリー入力!$G20="フリーリレー",6,7)) | Z20: =IF(リレー種目エントリー入力!$H20="４×25m",3, IF(リレー種目エントリー入力!$H20="４×50m",4, IF(リレー種目エントリー入力!$H20="４×100m",5, IF(リレー種目エントリー入力!$H20="４×200m",6, IF(リレー種目エントリー入力!$H20="４×375m",7, IF(リレー種目エントリー入力!$H20="４×75m",8, "")))))) | AA20: =IF($G20="","",IF(AND(リレー種目エントリー入力!$J20="",リレー種目エントリー入力!$K20="",リレー種目エントリー入力!$L20=""),"99:59:99", ASC($J20)& IF($J20="","",":") & IF(LEN(リレー種目エントリー入力!$K20)=0,"00",IF(LEN(リレー種目エントリー入力!$K20)=1,"0"&ASC($K20),ASC($K20)))&"."& IF(LEN(リレー種目エントリー入力!$L20)=0,"00",IF(LEN(リレー種目エントリー入力!$L20)=1,"0"&ASC($L20),ASC($L20))))) | AB20: =ASC(M20)
B21: 14 | C21: =IF($G21="","",ASC(団体情報入力!$D$7)) | D21: =IF($G21="","",団体情報入力!$D$10) | E21: =IF($G21="","",団体情報入力!$D$11) | U21: =IF($G21="","",RIGHT($C21,3)) | V21: =IF($G21="","",IF(LEN($C21)=4,"0"&LEFT($C21,1),LEFT($C21,2))) | W21: =IF($G21="","", IF(リレー種目エントリー入力!$I21="幼児",5, IF(リレー種目エントリー入力!$I21="小学",1, IF(リレー種目エントリー入力!$I21="中学",2, IF(リレー種目エントリー入力!$I21="高校",3, IF(リレー種目エントリー入力!$I21="大学",4, IF(リレー種目エントリー入力!$I21="一般",5, IF(リレー種目エントリー入力!$I21="高専",6, 5 )))))))) | X21: =IF(リレー種目エントリー入力!$F21="男子",1, IF(リレー種目エントリー入力!$F21="女子",2, IF(リレー種目エントリー入力!$F21="混成",3, IF(リレー種目エントリー入力!$F21="混合",4, "" )))) | Y21: =IF($G21="","", IF(リレー種目エントリー入力!$G21="フリーリレー",6,7)) | Z21: =IF(リレー種目エントリー入力!$H21="４×25m",3, IF(リレー種目エントリー入力!$H21="４×50m",4, IF(リレー種目エントリー入力!$H21="４×100m",5, IF(リレー種目エントリー入力!$H21="４×200m",6, IF(リレー種目エントリー入力!$H21="４×375m",7, IF(リレー種目エントリー入力!$H21="４×75m",8, "")))))) | AA21: =IF($G21="","",IF(AND(リレー種目エントリー入力!$J21="",リレー種目エントリー入力!$K21="",リレー種目エントリー入力!$L21=""),"99:59:99", ASC($J21)& IF($J21="","",":") & IF(LEN(リレー種目エントリー入力!$K21)=0,"00",IF(LEN(リレー種目エントリー入力!$K21)=1,"0"&ASC($K21),ASC($K21)))&"."& IF(LEN(リレー種目エントリー入力!$L21)=0,"00",IF(LEN(リレー種目エントリー入力!$L21)=1,"0"&ASC($L21),ASC($L21))))) | AB21: =ASC(M21)
B22: 15 | C22: =IF($G22="","",ASC(団体情報入力!$D$7)) | D22: =IF($G22="","",団体情報入力!$D$10) | E22: =IF($G22="","",団体情報入力!$D$11) | U22: =IF($G22="","",RIGHT($C22,3)) | V22: =IF($G22="","",IF(LEN($C22)=4,"0"&LEFT($C22,1),LEFT($C22,2))) | W22: =IF($G22="","", IF(リレー種目エントリー入力!$I22="幼児",5, IF(リレー種目エントリー入力!$I22="小学",1, IF(リレー種目エントリー入力!$I22="中学",2, IF(リレー種目エントリー入力!$I22="高校",3, IF(リレー種目エントリー入力!$I22="大学",4, IF(リレー種目エントリー入力!$I22="一般",5, IF(リレー種目エントリー入力!$I22="高専",6, 5 )))))))) | X22: =IF(リレー種目エントリー入力!$F22="男子",1, IF(リレー種目エントリー入力!$F22="女子",2, IF(リレー種目エントリー入力!$F22="混成",3, IF(リレー種目エントリー入力!$F22="混合",4, "" )))) | Y22: =IF($G22="","", IF(リレー種目エントリー入力!$G22="フリーリレー",6,7)) | Z22: =IF(リレー種目エントリー入力!$H22="４×25m",3, IF(リレー種目エントリー入力!$H22="４×50m",4, IF(リレー種目エントリー入力!$H22="４×100m",5, IF(リレー種目エントリー入力!$H22="４×200m",6, IF(リレー種目エントリー入力!$H22="４×375m",7, IF(リレー種目エントリー入力!$H22="４×75m",8, "")))))) | AA22: =IF($G22="","",IF(AND(リレー種目エントリー入力!$J22="",リレー種目エントリー入力!$K22="",リレー種目エントリー入力!$L22=""),"99:59:99", ASC($J22)& IF($J22="","",":") & IF(LEN(リレー種目エントリー入力!$K22)=0,"00",IF(LEN(リレー種目エントリー入力!$K22)=1,"0"&ASC($K22),ASC($K22)))&"."& IF(LEN(リレー種目エントリー入力!$L22)=0,"00",IF(LEN(リレー種目エントリー入力!$L22)=1,"0"&ASC($L22),ASC($L22))))) | AB22: =ASC(M22)
... B57: 50 | C57: =IF($G57="","",ASC(団体情報入力!$D$7)) | D57: =IF($G57="","",団体情報入力!$D$10) | E57: =IF($G57="","",団体情報入力!$D$11) | U57: =IF($G57="","",RIGHT($C57,3)) | V57: =IF($G57="","",IF(LEN($C57)=4,"0"&LEFT($C57,1),LEFT($C57,2))) | W57: =IF($G57="","", IF(リレー種目エントリー入力!$I57="幼児",5, IF(リレー種目エントリー入力!$I57="小学",1, IF(リレー種目エントリー入力!$I57="中学",2, IF(リレー種目エントリー入力!$I57="高校",3, IF(リレー種目エントリー入力!$I57="大学",4, IF(リレー種目エントリー入力!$I57="一般",5, IF(リレー種目エントリー入力!$I57="高専",6, 5 )))))))) | X57: =IF(リレー種目エントリー入力!$F57="男子",1, IF(リレー種目エントリー入力!$F57="女子",2, IF(リレー種目エントリー入力!$F57="混成",3, IF(リレー種目エントリー入力!$F57="混合",4, "" )))) | Y57: =IF($G57="","", IF(リレー種目エントリー入力!$G57="フリーリレー",6,7)) | Z57: =IF(リレー種目エントリー入力!$H57="４×25m",3, IF(リレー種目エントリー入力!$H57="４×50m",4, IF(リレー種目エントリー入力!$H57="４×100m",5, IF(リレー種目エントリー入力!$H57="４×200m",6, IF(リレー種目エントリー入力!$H57="４×375m",7, IF(リレー種目エントリー入力!$H57="４×75m",8, "")))))) | AA57: =IF($G57="","",IF(AND(リレー種目エントリー入力!$J57="",リレー種目エントリー入力!$K57="",リレー種目エントリー入力!$L57=""),"99:59:99", ASC($J57)& IF($J57="","",":") & IF(LEN(リレー種目エントリー入力!$K57)=0,"00",IF(LEN(リレー種目エントリー入力!$K57)=1,"0"&ASC($K57),ASC($K57)))&"."& IF(LEN(リレー種目エントリー入力!$L57)=0,"00",IF(LEN(リレー種目エントリー入力!$L57)=1,"0"&ASC($L57),ASC($L57))))) | AB57: =ASC(M57)
B60: ※これ以上必要な場合は適宜上部のセルを引き延ばして拡張してください

Sheet 選手基本データ入力
B1: 選手情報入力シート | AB1: 処理用（絶対に触らないでください！！取り込みができなくなります）
B3: 参加する選手の情報を入力してください。記載ミスが無いようよく確認してください。記入が完了したら、「個人種目エントリー入力」シートでエントリー種目の登録を行ってください
B4: ※個人種目にはエントリーせず、リレーのみに参加する選手も必ず登録してください！！！
B5: ※選手は詰めて記入してください！
B7: No. | C7: 性別 | D7: 氏名 | F7: 氏名カナ | H7: 生年 | I7: 月 | J7: 日 | M7: 年齢 | Q7: リレー
D8: 姓 | E8: 名 | F8: 姓 | G8: 名 | H8: （西暦） | K8: 学種 | L8: 学年 | M8: （自動入力） | N8: 所属名 | O8: 所属カナ | P8: 登録団体番号 | Q8: のみ出場 | AC8: AC | AD8: AD | AE8: AE | AF8: AF | AG8: AG | AH8: AH
B9: 例 | C9: 男子 | D9: 北海道 | E9: 征四郎 | F9: ﾄｳﾎｸ | G9: ﾀﾛｳ | H9: 1964 | I9: 10 | J9: 13 | K9: 大学 | L9: 8 | M9: 60 | N9: 北部大 | O9: ﾎｸﾌﾞﾀﾞｲ | P9: 53000 | Q9: 〇 | AC9: 氏名結合 | AD9: 性別コード | AE9: 氏名カナ | AF9: 生年月日 | AG9: 学種コード | AH9: 学年半角
B10: 1 | M10: =IF($H10="","",IFERROR(DATEDIF($H10&"/"&$I10&"/"&$J10,(操作禁止３!$A$5),"Y"),"")) | N10: =IF($D10="","",団体情報入力!$D$10) | O10: =IF($D10="","",ASC(団体情報入力!$D$11)) | P10: =IF($D10="","",団体情報入力!$D$7) | AC10: =IF(選手基本データ入力!D10="","", IF(LEN(選手基本データ入力!D10) + LEN(選手基本データ入力!E10) =2, 選手基本データ入力!D10 & " " & 選手基本データ入力!E10, IF(LEN(選手基本データ入力!D10) + LEN(選手基本データ入力!E10) =3, 選手基本データ入力!D10 & " " & 選手基本データ入力!E10, IF(LEN(選手基本データ入力!D10) + LEN(選手基本データ入力!E10) =4, 選手基本データ入力!D10 & " " & 選手基本データ入力!E10, 選手基本データ入力!D10 & 選手基本データ入力!E10 ))) ) | AD10: =IF($C10="男子",1, IF($C10="女子",2, IF($C10="混成",3, IF($C10="混合",4, "" )))) | AE10: =IF($F10="","",ASC($F10 & " " & $G10)) | AF10: =選手基本データ入力!H10 &IF(LEN(選手基本データ入力!I10)=1,"0"&選手基本データ入力!I10,選手基本データ入力!I10) &IF(LEN(選手基本データ入力!J10)=1,"0"&選手基本データ入力!J10,選手基本データ入力!J10) | AG10: =IF($K10="幼児",0, IF($K10="小学",1, IF($K10="中学",2, IF($K10="高校",3, IF($K10="大学",4, IF($K10="一般",5, IF($K10="高専",6, ""))))))) | AH10: =IF($D10="","",IF($L10="",0,ASC($L10)))
B11: 2 | M11: =IF($H11="","",IFERROR(DATEDIF($H11&"/"&$I11&"/"&$J11,(操作禁止３!$A$5),"Y"),"")) | N11: =IF($D11="","",団体情報入力!$D$10) | O11: =IF($D11="","",ASC(団体情報入力!$D$11)) | P11: =IF($D11="","",団体情報入力!$D$7) | AC11: =IF(選手基本データ入力!D11="","", IF(LEN(選手基本データ入力!D11) + LEN(選手基本データ入力!E11) =2, 選手基本データ入力!D11 & " " & 選手基本データ入力!E11, IF(LEN(選手基本データ入力!D11) + LEN(選手基本データ入力!E11) =3, 選手基本データ入力!D11 & " " & 選手基本データ入力!E11, IF(LEN(選手基本データ入力!D11) + LEN(選手基本データ入力!E11) =4, 選手基本データ入力!D11 & " " & 選手基本データ入力!E11, 選手基本データ入力!D11 & 選手基本データ入力!E11 ))) ) | AD11: =IF($C11="男子",1, IF($C11="女子",2, IF($C11="混成",3, IF($C11="混合",4, "" )))) | AE11: =IF($F11="","",ASC($F11 & " " & $G11)) | AF11: =選手基本データ入力!H11 &IF(LEN(選手基本データ入力!I11)=1,"0"&選手基本データ入力!I11,選手基本データ入力!I11) &IF(LEN(選手基本データ入力!J11)=1,"0"&選手基本データ入力!J11,選手基本データ入力!J11) | AG11: =IF($K11="幼児",0, IF($K11="小学",1, IF($K11="中学",2, IF($K11="高校",3, IF($K11="大学",4, IF($K11="一般",5, IF($K11="高専",6, ""))))))) | AH11: =IF($D11="","",IF($L11="",0,ASC($L11)))
B12: 3 | M12: =IF($H12="","",IFERROR(DATEDIF($H12&"/"&$I12&"/"&$J12,(操作禁止３!$A$5),"Y"),"")) | N12: =IF($D12="","",団体情報入力!$D$10) | O12: =IF($D12="","",ASC(団体情報入力!$D$11)) | P12: =IF($D12="","",団体情報入力!$D$7) | AC12: =IF(選手基本データ入力!D12="","", IF(LEN(選手基本データ入力!D12) + LEN(選手基本データ入力!E12) =2, 選手基本データ入力!D12 & " " & 選手基本データ入力!E12, IF(LEN(選手基本データ入力!D12) + LEN(選手基本データ入力!E12) =3, 選手基本データ入力!D12 & " " & 選手基本データ入力!E12, IF(LEN(選手基本データ入力!D12) + LEN(選手基本データ入力!E12) =4, 選手基本データ入力!D12 & " " & 選手基本データ入力!E12, 選手基本データ入力!D12 & 選手基本データ入力!E12 ))) ) | AD12: =IF($C12="男子",1, IF($C12="女子",2, IF($C12="混成",3, IF($C12="混合",4, "" )))) | AE12: =IF($F12="","",ASC($F12 & " " & $G12)) | AF12: =選手基本データ入力!H12 &IF(LEN(選手基本データ入力!I12)=1,"0"&選手基本データ入力!I12,選手基本データ入力!I12) &IF(LEN(選手基本データ入力!J12)=1,"0"&選手基本データ入力!J12,選手基本データ入力!J12) | AG12: =IF($K12="幼児",0, IF($K12="小学",1, IF($K12="中学",2, IF($K12="高校",3, IF($K12="大学",4, IF($K12="一般",5, IF($K12="高専",6, ""))))))) | AH12: =IF($D12="","",IF($L12="",0,ASC($L12)))
B13: 4 | M13: =IF($H13="","",IFERROR(DATEDIF($H13&"/"&$I13&"/"&$J13,(操作禁止３!$A$5),"Y"),"")) | N13: =IF($D13="","",団体情報入力!$D$10) | O13: =IF($D13="","",ASC(団体情報入力!$D$11)) | P13: =IF($D13="","",団体情報入力!$D$7) | AC13: =IF(選手基本データ入力!D13="","", IF(LEN(選手基本データ入力!D13) + LEN(選手基本データ入力!E13) =2, 選手基本データ入力!D13 & " " & 選手基本データ入力!E13, IF(LEN(選手基本データ入力!D13) + LEN(選手基本データ入力!E13) =3, 選手基本データ入力!D13 & " " & 選手基本データ入力!E13, IF(LEN(選手基本データ入力!D13) + LEN(選手基本データ入力!E13) =4, 選手基本データ入力!D13 & " " & 選手基本データ入力!E13, 選手基本データ入力!D13 & 選手基本データ入力!E13 ))) ) | AD13: =IF($C13="男子",1, IF($C13="女子",2, IF($C13="混成",3, IF($C13="混合",4, "" )))) | AE13: =IF($F13="","",ASC($F13 & " " & $G13)) | AF13: =選手基本データ入力!H13 &IF(LEN(選手基本データ入力!I13)=1,"0"&選手基本データ入力!I13,選手基本データ入力!I13) &IF(LEN(選手基本データ入力!J13)=1,"0"&選手基本データ入力!J13,選手基本データ入力!J13) | AG13: =IF($K13="幼児",0, IF($K13="小学",1, IF($K13="中学",2, IF($K13="高校",3, IF($K13="大学",4, IF($K13="一般",5, IF($K13="高専",6, ""))))))) | AH13: =IF($D13="","",IF($L13="",0,ASC($L13)))
B14: 5 | M14: =IF($H14="","",IFERROR(DATEDIF($H14&"/"&$I14&"/"&$J14,(操作禁止３!$A$5),"Y"),"")) | N14: =IF($D14="","",団体情報入力!$D$10) | O14: =IF($D14="","",ASC(団体情報入力!$D$11)) | P14: =IF($D14="","",団体情報入力!$D$7) | AC14: =IF(選手基本データ入力!D14="","", IF(LEN(選手基本データ入力!D14) + LEN(選手基本データ入力!E14) =2, 選手基本データ入力!D14 & " " & 選手基本データ入力!E14, IF(LEN(選手基本データ入力!D14) + LEN(選手基本データ入力!E14) =3, 選手基本データ入力!D14 & " " & 選手基本データ入力!E14, IF(LEN(選手基本データ入力!D14) + LEN(選手基本データ入力!E14) =4, 選手基本データ入力!D14 & " " & 選手基本データ入力!E14, 選手基本データ入力!D14 & 選手基本データ入力!E14 ))) ) | AD14: =IF($C14="男子",1, IF($C14="女子",2, IF($C14="混成",3, IF($C14="混合",4, "" )))) | AE14: =IF($F14="","",ASC($F14 & " " & $G14)) | AF14: =選手基本データ入力!H14 &IF(LEN(選手基本データ入力!I14)=1,"0"&選手基本データ入力!I14,選手基本データ入力!I14) &IF(LEN(選手基本データ入力!J14)=1,"0"&選手基本データ入力!J14,選手基本データ入力!J14) | AG14: =IF($K14="幼児",0, IF($K14="小学",1, IF($K14="中学",2, IF($K14="高校",3, IF($K14="大学",4, IF($K14="一般",5, IF($K14="高専",6, ""))))))) | AH14: =IF($D14="","",IF($L14="",0,ASC($L14)))
B15: 6 | M15: =IF($H15="","",IFERROR(DATEDIF($H15&"/"&$I15&"/"&$J15,(操作禁止３!$A$5),"Y"),"")) | N15: =IF($D15="","",団体情報入力!$D$10) | O15: =IF($D15="","",ASC(団体情報入力!$D$11)) | P15: =IF($D15="","",団体情報入力!$D$7) | AC15: =IF(選手基本データ入力!D15="","", IF(LEN(選手基本データ入力!D15) + LEN(選手基本データ入力!E15) =2, 選手基本データ入力!D15 & " " & 選手基本データ入力!E15, IF(LEN(選手基本データ入力!D15) + LEN(選手基本データ入力!E15) =3, 選手基本データ入力!D15 & " " & 選手基本データ入力!E15, IF(LEN(選手基本データ入力!D15) + LEN(選手基本データ入力!E15) =4, 選手基本データ入力!D15 & " " & 選手基本データ入力!E15, 選手基本データ入力!D15 & 選手基本データ入力!E15 ))) ) | AD15: =IF($C15="男子",1, IF($C15="女子",2, IF($C15="混成",3, IF($C15="混合",4, "" )))) | AE15: =IF($F15="","",ASC($F15 & " " & $G15)) | AF15: =選手基本データ入力!H15 &IF(LEN(選手基本データ入力!I15)=1,"0"&選手基本データ入力!I15,選手基本データ入力!I15) &IF(LEN(選手基本データ入力!J15)=1,"0"&選手基本データ入力!J15,選手基本データ入力!J15) | AG15: =IF($K15="幼児",0, IF($K15="小学",1, IF($K15="中学",2, IF($K15="高校",3, IF($K15="大学",4, IF($K15="一般",5, IF($K15="高専",6, ""))))))) | AH15: =IF($D15="","",IF($L15="",0,ASC($L15)))
B16: 7 | M16: =IF($H16="","",IFERROR(DATEDIF($H16&"/"&$I16&"/"&$J16,(操作禁止３!$A$5),"Y"),"")) | N16: =IF($D16="","",団体情報入力!$D$10) | O16: =IF($D16="","",ASC(団体情報入力!$D$11)) | P16: =IF($D16="","",団体情報入力!$D$7) | AC16: =IF(選手基本データ入力!D16="","", IF(LEN(選手基本データ入力!D16) + LEN(選手基本データ入力!E16) =2, 選手基本データ入力!D16 & " " & 選手基本データ入力!E16, IF(LEN(選手基本データ入力!D16) + LEN(選手基本データ入力!E16) =3, 選手基本データ入力!D16 & " " & 選手基本データ入力!E16, IF(LEN(選手基本データ入力!D16) + LEN(選手基本データ入力!E16) =4, 選手基本データ入力!D16 & " " & 選手基本データ入力!E16, 選手基本データ入力!D16 & 選手基本データ入力!E16 ))) ) | AD16: =IF($C16="男子",1, IF($C16="女子",2, IF($C16="混成",3, IF($C16="混合",4, "" )))) | AE16: =IF($F16="","",ASC($F16 & " " & $G16)) | AF16: =選手基本データ入力!H16 &IF(LEN(選手基本データ入力!I16)=1,"0"&選手基本データ入力!I16,選手基本データ入力!I16) &IF(LEN(選手基本データ入力!J16)=1,"0"&選手基本データ入力!J16,選手基本データ入力!J16) | AG16: =IF($K16="幼児",0, IF($K16="小学",1, IF($K16="中学",2, IF($K16="高校",3, IF($K16="大学",4, IF($K16="一般",5, IF($K16="高専",6, ""))))))) | AH16: =IF($D16="","",IF($L16="",0,ASC($L16)))
B17: 8 | M17: =IF($H17="","",IFERROR(DATEDIF($H17&"/"&$I17&"/"&$J17,(操作禁止３!$A$5),"Y"),"")) | N17: =IF($D17="","",団体情報入力!$D$10) | O17: =IF($D17="","",ASC(団体情報入力!$D$11)) | P17: =IF($D17="","",団体情報入力!$D$7) | AC17: =IF(選手基本データ入力!D17="","", IF(LEN(選手基本データ入力!D17) + LEN(選手基本データ入力!E17) =2, 選手基本データ入力!D17 & " " & 選手基本データ入力!E17, IF(LEN(選手基本データ入力!D17) + LEN(選手基本データ入力!E17) =3, 選手基本データ入力!D17 & " " & 選手基本データ入力!E17, IF(LEN(選手基本データ入力!D17) + LEN(選手基本データ入力!E17) =4, 選手基本データ入力!D17 & " " & 選手基本データ入力!E17, 選手基本データ入力!D17 & 選手基本データ入力!E17 ))) ) | AD17: =IF($C17="男子",1, IF($C17="女子",2, IF($C17="混成",3, IF($C17="混合",4, "" )))) | AE17: =IF($F17="","",ASC($F17 & " " & $G17)) | AF17: =選手基本データ入力!H17 &IF(LEN(選手基本データ入力!I17)=1,"0"&選手基本データ入力!I17,選手基本データ入力!I17) &IF(LEN(選手基本データ入力!J17)=1,"0"&選手基本データ入力!J17,選手基本データ入力!J17) | AG17: =IF($K17="幼児",0, IF($K17="小学",1, IF($K17="中学",2, IF($K17="高校",3, IF($K17="大学",4, IF($K17="一般",5, IF($K17="高専",6, ""))))))) | AH17: =IF($D17="","",IF($L17="",0,ASC($L17)))
B18: 9 | M18: =IF($H18="","",IFERROR(DATEDIF($H18&"/"&$I18&"/"&$J18,(操作禁止３!$A$5),"Y"),"")) | N18: =IF($D18="","",団体情報入力!$D$10) | O18: =IF($D18="","",ASC(団体情報入力!$D$11)) | P18: =IF($D18="","",団体情報入力!$D$7) | AC18: =IF(選手基本データ入力!D18="","", IF(LEN(選手基本データ入力!D18) + LEN(選手基本データ入力!E18) =2, 選手基本データ入力!D18 & " " & 選手基本データ入力!E18, IF(LEN(選手基本データ入力!D18) + LEN(選手基本データ入力!E18) =3, 選手基本データ入力!D18 & " " & 選手基本データ入力!E18, IF(LEN(選手基本データ入力!D18) + LEN(選手基本データ入力!E18) =4, 選手基本データ入力!D18 & " " & 選手基本データ入力!E18, 選手基本データ入力!D18 & 選手基本データ入力!E18 ))) ) | AD18: =IF($C18="男子",1, IF($C18="女子",2, IF($C18="混成",3, IF($C18="混合",4, "" )))) | AE18: =IF($F18="","",ASC($F18 & " " & $G18)) | AF18: =選手基本データ入力!H18 &IF(LEN(選手基本データ入力!I18)=1,"0"&選手基本データ入力!I18,選手基本データ入力!I18) &IF(LEN(選手基本データ入力!J18)=1,"0"&選手基本データ入力!J18,選手基本データ入力!J18) | AG18: =IF($K18="幼児",0, IF($K18="小学",1, IF($K18="中学",2, IF($K18="高校",3, IF($K18="大学",4, IF($K18="一般",5, IF($K18="高専",6, ""))))))) | AH18: =IF($D18="","",IF($L18="",0,ASC($L18)))
B19: 10 | M19: =IF($H19="","",IFERROR(DATEDIF($H19&"/"&$I19&"/"&$J19,(操作禁止３!$A$5),"Y"),"")) | N19: =IF($D19="","",団体情報入力!$D$10) | O19: =IF($D19="","",ASC(団体情報入力!$D$11)) | P19: =IF($D19="","",団体情報入力!$D$7) | AC19: =IF(選手基本データ入力!D19="","", IF(LEN(選手基本データ入力!D19) + LEN(選手基本データ入力!E19) =2, 選手基本データ入力!D19 & " " & 選手基本データ入力!E19, IF(LEN(選手基本データ入力!D19) + LEN(選手基本データ入力!E19) =3, 選手基本データ入力!D19 & " " & 選手基本データ入力!E19, IF(LEN(選手基本データ入力!D19) + LEN(選手基本データ入力!E19) =4, 選手基本データ入力!D19 & " " & 選手基本データ入力!E19, 選手基本データ入力!D19 & 選手基本データ入力!E19 ))) ) | AD19: =IF($C19="男子",1, IF($C19="女子",2, IF($C19="混成",3, IF($C19="混合",4, "" )))) | AE19: =IF($F19="","",ASC($F19 & " " & $G19)) | AF19: =選手基本データ入力!H19 &IF(LEN(選手基本データ入力!I19)=1,"0"&選手基本データ入力!I19,選手基本データ入力!I19) &IF(LEN(選手基本データ入力!J19)=1,"0"&選手基本データ入力!J19,選手基本データ入力!J19) | AG19: =IF($K19="幼児",0, IF($K19="小学",1, IF($K19="中学",2, IF($K19="高校",3, IF($K19="大学",4, IF($K19="一般",5, IF($K19="高専",6, ""))))))) | AH19: =IF($D19="","",IF($L19="",0,ASC($L19)))
B20: 11 | M20: =IF($H20="","",IFERROR(DATEDIF($H20&"/"&$I20&"/"&$J20,(操作禁止３!$A$5),"Y"),"")) | N20: =IF($D20="","",団体情報入力!$D$10) | O20: =IF($D20="","",ASC(団体情報入力!$D$11)) | P20: =IF($D20="","",団体情報入力!$D$7) | AC20: =IF(選手基本データ入力!D20="","", IF(LEN(選手基本データ入力!D20) + LEN(選手基本データ入力!E20) =2, 選手基本データ入力!D20 & " " & 選手基本データ入力!E20, IF(LEN(選手基本データ入力!D20) + LEN(選手基本データ入力!E20) =3, 選手基本データ入力!D20 & " " & 選手基本データ入力!E20, IF(LEN(選手基本データ入力!D20) + LEN(選手基本データ入力!E20) =4, 選手基本データ入力!D20 & " " & 選手基本データ入力!E20, 選手基本データ入力!D20 & 選手基本データ入力!E20 ))) ) | AD20: =IF($C20="男子",1, IF($C20="女子",2, IF($C20="混成",3, IF($C20="混合",4, "" )))) | AE20: =IF($F20="","",ASC($F20 & " " & $G20)) | AF20: =選手基本データ入力!H20 &IF(LEN(選手基本データ入力!I20)=1,"0"&選手基本データ入力!I20,選手基本データ入力!I20) &IF(LEN(選手基本データ入力!J20)=1,"0"&選手基本データ入力!J20,選手基本データ入力!J20) | AG20: =IF($K20="幼児",0, IF($K20="小学",1, IF($K20="中学",2, IF($K20="高校",3, IF($K20="大学",4, IF($K20="一般",5, IF($K20="高専",6, ""))))))) | AH20: =IF($D20="","",IF($L20="",0,ASC($L20)))
B21: 12 | M21: =IF($H21="","",IFERROR(DATEDIF($H21&"/"&$I21&"/"&$J21,(操作禁止３!$A$5),"Y"),"")) | N21: =IF($D21="","",団体情報入力!$D$10) | O21: =IF($D21="","",ASC(団体情報入力!$D$11)) | P21: =IF($D21="","",団体情報入力!$D$7) | AC21: =IF(選手基本データ入力!D21="","", IF(LEN(選手基本データ入力!D21) + LEN(選手基本データ入力!E21) =2, 選手基本データ入力!D21 & " " & 選手基本データ入力!E21, IF(LEN(選手基本データ入力!D21) + LEN(選手基本データ入力!E21) =3, 選手基本データ入力!D21 & " " & 選手基本データ入力!E21, IF(LEN(選手基本データ入力!D21) + LEN(選手基本データ入力!E21) =4, 選手基本データ入力!D21 & " " & 選手基本データ入力!E21, 選手基本データ入力!D21 & 選手基本データ入力!E21 ))) ) | AD21: =IF($C21="男子",1, IF($C21="女子",2, IF($C21="混成",3, IF($C21="混合",4, "" )))) | AE21: =IF($F21="","",ASC($F21 & " " & $G21)) | AF21: =選手基本データ入力!H21 &IF(LEN(選手基本データ入力!I21)=1,"0"&選手基本データ入力!I21,選手基本データ入力!I21) &IF(LEN(選手基本データ入力!J21)=1,"0"&選手基本データ入力!J21,選手基本データ入力!J21) | AG21: =IF($K21="幼児",0, IF($K21="小学",1, IF($K21="中学",2, IF($K21="高校",3, IF($K21="大学",4, IF($K21="一般",5, IF($K21="高専",6, ""))))))) | AH21: =IF($D21="","",IF($L21="",0,ASC($L21)))
... B59: 50 | M59: =IF($H59="","",IFERROR(DATEDIF($H59&"/"&$I59&"/"&$J59,(操作禁止３!$A$5),"Y"),"")) | N59: =IF($D59="","",団体情報入力!$D$10) | O59: =IF($D59="","",ASC(団体情報入力!$D$11)) | P59: =IF($D59="","",団体情報入力!$D$7) | AC59: =IF(選手基本データ入力!D59="","", IF(LEN(選手基本データ入力!D59) + LEN(選手基本データ入力!E59) =2, 選手基本データ入力!D59 & " " & 選手基本データ入力!E59, IF(LEN(選手基本データ入力!D59) + LEN(選手基本データ入力!E59) =3, 選手基本データ入力!D59 & " " & 選手基本データ入力!E59, IF(LEN(選手基本データ入力!D59) + LEN(選手基本データ入力!E59) =4, 選手基本データ入力!D59 & " " & 選手基本データ入力!E59, 選手基本データ入力!D59 & 選手基本データ入力!E59 ))) ) | AD59: =IF($C59="男子",1, IF($C59="女子",2, IF($C59="混成",3, IF($C59="混合",4, "" )))) | AE59: =IF($F59="","",ASC($F59 & " " & $G59)) | AF59: =選手基本データ入力!H59 &IF(LEN(選手基本データ入力!I59)=1,"0"&選手基本データ入力!I59,選手基本データ入力!I59) &IF(LEN(選手基本データ入力!J59)=1,"0"&選手基本データ入力!J59,選手基本データ入力!J59) | AG59: =IF($K59="幼児",0, IF($K59="小学",1, IF($K59="中学",2, IF($K59="高校",3, IF($K59="大学",4, IF($K59="一般",5, IF($K59="高専",6, ""))))))) | AH59: =IF($D59="","",IF($L59="",0,ASC($L59)))
B61: ※これ以上必要な場合は適宜上部のセルを引き延ばして拡張してください

Sheet 個人種目エントリー入力
B1: 個人種目エントリー入力 | R1: 処理用（絶対に触らないでください！！取り込みができなくなります）
B2: 個人種目のエントリーを入力してください
B3: ※エントリーは詰めて記入してください！
B4: ※エントリー可能な種目以外も選択できますが、要項に記載の種目以外は開催しませんのでご注意ください。
V5: ※TXT用
B6: No. | C6: 氏名 | D6: 種目 | E6: 距離 | F6: エントリータイム | I6: クラス番号 | S6: S | U6: U | V6: V | W6: W | X6: X | Z6: Z | AA6: AA | AD6: AD
F7: 分 | G7: 秒 | H7: 00 | K7: クラス一覧 | S7: エントリー種目数 | U7: 種目コード | V7: 距離コード | W7: クラスコード | X7: エントリータイム | Z7: 種目距離csv | AA7: エントリータイムcsv | AD7: match
B8: {=IF($C8="","",INDEX(選手基本データ入力!$B$10:$B59, $AD8))} | K8: クラス番号 | L8: クラス名称 | S8: =IF(B8="","",COUNTIF(B$8:B8,B8)) | U8: =IF($D8="自由形",1, IF($D8="背泳ぎ",2, IF($D8="平泳ぎ",3, IF($D8="バタフライ",4, IF($D8="個人メドレー",5,"" ))))) | V8: =IF($E8="25m",1, IF($E8="50m",2, IF($E8="100m",3, IF($E8="200m",4, IF($E8="400m",6, IF($E8="800m",7, IF($E8="1500m",8, IF($E8="300m",5, IF($E8="75m",9,"" ))))))))) | W8: =ASC($I8) | X8: =IF($C8="","",IF(AND($F8="",$G8="",$H8=""),"99:59:99", ASC($F8)& IF($F8="","",":") & IF(LEN($G8)=0,"00",IF(LEN($G8)=1,IF($F8="",ASC($G8),"0"&ASC($G8)),ASC($G8)))&"."& IF(LEN($H8)=0,"00",IF(LEN($H8)=1,"0"&ASC($H8),ASC($H8))))) | Z8: =IF($E8="","",$U8& IF($V8=1,"0025", IF($V8=2,"0050", IF($V8=3,"0100", IF($V8=4,"0200", IF($V8=5,"0400", IF($V8=6,"0800", IF($V8=7,"1500", IF($V8=8,"0300", IF($V8=9,"0075", )))))))))) | AA8: =IF($C8="","", IF(AND($F8="",$G8="",$H8=""),"99:59:99", IF(LEN($F8)=0,"00", IF(LEN($F8)=1,"0"&ASC($F8),ASC($F8)))&IF(LEN($G8)=1,"0"&ASC(G8),ASC($G8))&"."&IF(LEN($H8)=0,"00",IF(LEN($H8)=1,"0"&ASC($H8),ASC($H8))) )) | AD8: =IF($C8="","",MATCH($C8,選手基本データ入力!$AC$10:$AC59,0))
B9: {=IF($C9="","",INDEX(選手基本データ入力!$B$10:$B60, $AD9))} | K9: 03 | L9: 北海道（対抗戦正式） | S9: =IF(B9="","",COUNTIF(B$8:B9,B9)) | U9: =IF($D9="自由形",1, IF($D9="背泳ぎ",2, IF($D9="平泳ぎ",3, IF($D9="バタフライ",4, IF($D9="個人メドレー",5,"" ))))) | V9: =IF($E9="25m",1, IF($E9="50m",2, IF($E9="100m",3, IF($E9="200m",4, IF($E9="400m",6, IF($E9="800m",7, IF($E9="1500m",8, IF($E9="300m",5, IF($E9="75m",9,"" ))))))))) | W9: =ASC($I9) | X9: =IF($C9="","",IF(AND($F9="",$G9="",$H9=""),"99:59:99", ASC($F9)& IF($F9="","",":") & IF(LEN($G9)=0,"00",IF(LEN($G9)=1,IF($F9="",ASC($G9),"0"&ASC($G9)),ASC($G9)))&"."& IF(LEN($H9)=0,"00",IF(LEN($H9)=1,"0"&ASC($H9),ASC($H9))))) | Z9: =IF($E9="","",$U9& IF($V9=1,"0025", IF($V9=2,"0050", IF($V9=3,"0100", IF($V9=4,"0200", IF($V9=5,"0400", IF($V9=6,"0800", IF($V9=7,"1500", IF($V9=8,"0300", IF($V9=9,"0075", )))))))))) | AA9: =IF($C9="","", IF(AND($F9="",$G9="",$H9=""),"99:59:99", IF(LEN($F9)=0,"00", IF(LEN($F9)=1,"0"&ASC($F9),ASC($F9)))&IF(LEN($G9)=1,"0"&ASC(G9),ASC($G9))&"."&IF(LEN($H9)=0,"00",IF(LEN($H9)=1,"0"&ASC($H9),ASC($H9))) )) | AD9: =IF($C9="","",MATCH($C9,選手基本データ入力!$AC$10:$AC60,0))
B10: {=IF($C10="","",INDEX(選手基本データ入力!$B$10:$B61, $AD10))} | K10: 05 | L10: 北海道OP | S10: =IF(B10="","",COUNTIF(B$8:B10,B10)) | U10: =IF($D10="自由形",1, IF($D10="背泳ぎ",2, IF($D10="平泳ぎ",3, IF($D10="バタフライ",4, IF($D10="個人メドレー",5,"" ))))) | V10: =IF($E10="25m",1, IF($E10="50m",2, IF($E10="100m",3, IF($E10="200m",4, IF($E10="400m",6, IF($E10="800m",7, IF($E10="1500m",8, IF($E10="300m",5, IF($E10="75m",9,"" ))))))))) | W10: =ASC($I10) | X10: =IF($C10="","",IF(AND($F10="",$G10="",$H10=""),"99:59:99", ASC($F10)& IF($F10="","",":") & IF(LEN($G10)=0,"00",IF(LEN($G10)=1,IF($F10="",ASC($G10),"0"&ASC($G10)),ASC($G10)))&"."& IF(LEN($H10)=0,"00",IF(LEN($H10)=1,"0"&ASC($H10),ASC($H10))))) | Z10: =IF($E10="","",$U10& IF($V10=1,"0025", IF($V10=2,"0050", IF($V10=3,"0100", IF($V10=4,"0200", IF($V10=5,"0400", IF($V10=6,"0800", IF($V10=7,"1500", IF($V10=8,"0300", IF($V10=9,"0075", )))))))))) | AA10: =IF($C10="","", IF(AND($F10="",$G10="",$H10=""),"99:59:99", IF(LEN($F10)=0,"00", IF(LEN($F10)=1,"0"&ASC($F10),ASC($F10)))&IF(LEN($G10)=1,"0"&ASC(G10),ASC($G10))&"."&IF(LEN($H10)=0,"00",IF(LEN($H10)=1,"0"&ASC($H10),ASC($H10))) )) | AD10: =IF($C10="","",MATCH($C10,選手基本データ入力!$AC$10:$AC61,0))
B11: {=IF($C11="","",INDEX(選手基本データ入力!$B$10:$B62, $AD11))} | S11: =IF(B11="","",COUNTIF(B$8:B11,B11)) | U11: =IF($D11="自由形",1, IF($D11="背泳ぎ",2, IF($D11="平泳ぎ",3, IF($D11="バタフライ",4, IF($D11="個人メドレー",5,"" ))))) | V11: =IF($E11="25m",1, IF($E11="50m",2, IF($E11="100m",3, IF($E11="200m",4, IF($E11="400m",6, IF($E11="800m",7, IF($E11="1500m",8, IF($E11="300m",5, IF($E11="75m",9,"" ))))))))) | W11: =ASC($I11) | X11: =IF($C11="","",IF(AND($F11="",$G11="",$H11=""),"99:59:99", ASC($F11)& IF($F11="","",":") & IF(LEN($G11)=0,"00",IF(LEN($G11)=1,IF($F11="",ASC($G11),"0"&ASC($G11)),ASC($G11)))&"."& IF(LEN($H11)=0,"00",IF(LEN($H11)=1,"0"&ASC($H11),ASC($H11))))) | Z11: =IF($E11="","",$U11& IF($V11=1,"0025", IF($V11=2,"0050", IF($V11=3,"0100", IF($V11=4,"0200", IF($V11=5,"0400", IF($V11=6,"0800", IF($V11=7,"1500", IF($V11=8,"0300", IF($V11=9,"0075", )))))))))) | AA11: =IF($C11="","", IF(AND($F11="",$G11="",$H11=""),"99:59:99", IF(LEN($F11)=0,"00", IF(LEN($F11)=1,"0"&ASC($F11),ASC($F11)))&IF(LEN($G11)=1,"0"&ASC(G11),ASC($G11))&"."&IF(LEN($H11)=0,"00",IF(LEN($H11)=1,"0"&ASC($H11),ASC($H11))) )) | AD11: =IF($C11="","",MATCH($C11,選手基本データ入力!$AC$10:$AC62,0))
B12: {=IF($C12="","",INDEX(選手基本データ入力!$B$10:$B63, $AD12))} | S12: =IF(B12="","",COUNTIF(B$8:B12,B12)) | U12: =IF($D12="自由形",1, IF($D12="背泳ぎ",2, IF($D12="平泳ぎ",3, IF($D12="バタフライ",4, IF($D12="個人メドレー",5,"" ))))) | V12: =IF($E12="25m",1, IF($E12="50m",2, IF($E12="100m",3, IF($E12="200m",4, IF($E12="400m",6, IF($E12="800m",7, IF($E12="1500m",8, IF($E12="300m",5, IF($E12="75m",9,"" ))))))))) | W12: =ASC($I12) | X12: =IF($C12="","",IF(AND($F12="",$G12="",$H12=""),"99:59:99", ASC($F12)& IF($F12="","",":") & IF(LEN($G12)=0,"00",IF(LEN($G12)=1,IF($F12="",ASC($G12),"0"&ASC($G12)),ASC($G12)))&"."& IF(LEN($H12)=0,"00",IF(LEN($H12)=1,"0"&ASC($H12),ASC($H12))))) | Z12: =IF($E12="","",$U12& IF($V12=1,"0025", IF($V12=2,"0050", IF($V12=3,"0100", IF($V12=4,"0200", IF($V12=5,"0400", IF($V12=6,"0800", IF($V12=7,"1500", IF($V12=8,"0300", IF($V12=9,"0075", )))))))))) | AA12: =IF($C12="","", IF(AND($F12="",$G12="",$H12=""),"99:59:99", IF(LEN($F12)=0,"00", IF(LEN($F12)=1,"0"&ASC($F12),ASC($F12)))&IF(LEN($G12)=1,"0"&ASC(G12),ASC($G12))&"."&IF(LEN($H12)=0,"00",IF(LEN($H12)=1,"0"&ASC($H12),ASC($H12))) )) | AD12: =IF($C12="","",MATCH($C12,選手基本データ入力!$AC$10:$AC63,0))
B13: {=IF($C13="","",INDEX(選手基本データ入力!$B$10:$B64, $AD13))} | S13: =IF(B13="","",COUNTIF(B$8:B13,B13)) | U13: =IF($D13="自由形",1, IF($D13="背泳ぎ",2, IF($D13="平泳ぎ",3, IF($D13="バタフライ",4, IF($D13="個人メドレー",5,"" ))))) | V13: =IF($E13="25m",1, IF($E13="50m",2, IF($E13="100m",3, IF($E13="200m",4, IF($E13="400m",6, IF($E13="800m",7, IF($E13="1500m",8, IF($E13="300m",5, IF($E13="75m",9,"" ))))))))) | W13: =ASC($I13) | X13: =IF($C13="","",IF(AND($F13="",$G13="",$H13=""),"99:59:99", ASC($F13)& IF($F13="","",":") & IF(LEN($G13)=0,"00",IF(LEN($G13)=1,IF($F13="",ASC($G13),"0"&ASC($G13)),ASC($G13)))&"."& IF(LEN($H13)=0,"00",IF(LEN($H13)=1,"0"&ASC($H13),ASC($H13))))) | Z13: =IF($E13="","",$U13& IF($V13=1,"0025", IF($V13=2,"0050", IF($V13=3,"0100", IF($V13=4,"0200", IF($V13=5,"0400", IF($V13=6,"0800", IF($V13=7,"1500", IF($V13=8,"0300", IF($V13=9,"0075", )))))))))) | AA13: =IF($C13="","", IF(AND($F13="",$G13="",$H13=""),"99:59:99", IF(LEN($F13)=0,"00", IF(LEN($F13)=1,"0"&ASC($F13),ASC($F13)))&IF(LEN($G13)=1,"0"&ASC(G13),ASC($G13))&"."&IF(LEN($H13)=0,"00",IF(LEN($H13)=1,"0"&ASC($H13),ASC($H13))) )) | AD13: =IF($C13="","",MATCH($C13,選手基本データ入力!$AC$10:$AC64,0))
B14: {=IF($C14="","",INDEX(選手基本データ入力!$B$10:$B65, $AD14))} | S14: =IF(B14="","",COUNTIF(B$8:B14,B14)) | U14: =IF($D14="自由形",1, IF($D14="背泳ぎ",2, IF($D14="平泳ぎ",3, IF($D14="バタフライ",4, IF($D14="個人メドレー",5,"" ))))) | V14: =IF($E14="25m",1, IF($E14="50m",2, IF($E14="100m",3, IF($E14="200m",4, IF($E14="400m",6, IF($E14="800m",7, IF($E14="1500m",8, IF($E14="300m",5, IF($E14="75m",9,"" ))))))))) | W14: =ASC($I14) | X14: =IF($C14="","",IF(AND($F14="",$G14="",$H14=""),"99:59:99", ASC($F14)& IF($F14="","",":") & IF(LEN($G14)=0,"00",IF(LEN($G14)=1,IF($F14="",ASC($G14),"0"&ASC($G14)),ASC($G14)))&"."& IF(LEN($H14)=0,"00",IF(LEN($H14)=1,"0"&ASC($H14),ASC($H14))))) | Z14: =IF($E14="","",$U14& IF($V14=1,"0025", IF($V14=2,"0050", IF($V14=3,"0100", IF($V14=4,"0200", IF($V14=5,"0400", IF($V14=6,"0800", IF($V14=7,"1500", IF($V14=8,"0300", IF($V14=9,"0075", )))))))))) | AA14: =IF($C14="","", IF(AND($F14="",$G14="",$H14=""),"99:59:99", IF(LEN($F14)=0,"00", IF(LEN($F14)=1,"0"&ASC($F14),ASC($F14)))&IF(LEN($G14)=1,"0"&ASC(G14),ASC($G14))&"."&IF(LEN($H14)=0,"00",IF(LEN($H14)=1,"0"&ASC($H14),ASC($H14))) )) | AD14: =IF($C14="","",MATCH($C14,選手基本データ入力!$AC$10:$AC65,0))
B15: {=IF($C15="","",INDEX(選手基本データ入力!$B$10:$B66, $AD15))} | S15: =IF(B15="","",COUNTIF(B$8:B15,B15)) | U15: =IF($D15="自由形",1, IF($D15="背泳ぎ",2, IF($D15="平泳ぎ",3, IF($D15="バタフライ",4, IF($D15="個人メドレー",5,"" ))))) | V15: =IF($E15="25m",1, IF($E15="50m",2, IF($E15="100m",3, IF($E15="200m",4, IF($E15="400m",6, IF($E15="800m",7, IF($E15="1500m",8, IF($E15="300m",5, IF($E15="75m",9,"" ))))))))) | W15: =ASC($I15) | X15: =IF($C15="","",IF(AND($F15="",$G15="",$H15=""),"99:59:99", ASC($F15)& IF($F15="","",":") & IF(LEN($G15)=0,"00",IF(LEN($G15)=1,IF($F15="",ASC($G15),"0"&ASC($G15)),ASC($G15)))&"."& IF(LEN($H15)=0,"00",IF(LEN($H15)=1,"0"&ASC($H15),ASC($H15))))) | Z15: =IF($E15="","",$U15& IF($V15=1,"0025", IF($V15=2,"0050", IF($V15=3,"0100", IF($V15=4,"0200", IF($V15=5,"0400", IF($V15=6,"0800", IF($V15=7,"1500", IF($V15=8,"0300", IF($V15=9,"0075", )))))))))) | AA15: =IF($C15="","", IF(AND($F15="",$G15="",$H15=""),"99:59:99", IF(LEN($F15)=0,"00", IF(LEN($F15)=1,"0"&ASC($F15),ASC($F15)))&IF(LEN($G15)=1,"0"&ASC(G15),ASC($G15))&"."&IF(LEN($H15)=0,"00",IF(LEN($H15)=1,"0"&ASC($H15),ASC($H15))) )) | AD15: =IF($C15="","",MATCH($C15,選手基本データ入力!$AC$10:$AC66,0))
B16: {=IF($C16="","",INDEX(選手基本データ入力!$B$10:$B67, $AD16))} | S16: =IF(B16="","",COUNTIF(B$8:B16,B16)) | U16: =IF($D16="自由形",1, IF($D16="背泳ぎ",2, IF($D16="平泳ぎ",3, IF($D16="バタフライ",4, IF($D16="個人メドレー",5,"" ))))) | V16: =IF($E16="25m",1, IF($E16="50m",2, IF($E16="100m",3, IF($E16="200m",4, IF($E16="400m",6, IF($E16="800m",7, IF($E16="1500m",8, IF($E16="300m",5, IF($E16="75m",9,"" ))))))))) | W16: =ASC($I16) | X16: =IF($C16="","",IF(AND($F16="",$G16="",$H16=""),"99:59:99", ASC($F16)& IF($F16="","",":") & IF(LEN($G16)=0,"00",IF(LEN($G16)=1,IF($F16="",ASC($G16),"0"&ASC($G16)),ASC($G16)))&"."& IF(LEN($H16)=0,"00",IF(LEN($H16)=1,"0"&ASC($H16),ASC($H16))))) | Z16: =IF($E16="","",$U16& IF($V16=1,"0025", IF($V16=2,"0050", IF($V16=3,"0100", IF($V16=4,"0200", IF($V16=5,"0400", IF($V16=6,"0800", IF($V16=7,"1500", IF($V16=8,"0300", IF($V16=9,"0075", )))))))))) | AA16: =IF($C16="","", IF(AND($F16="",$G16="",$H16=""),"99:59:99", IF(LEN($F16)=0,"00", IF(LEN($F16)=1,"0"&ASC($F16),ASC($F16)))&IF(LEN($G16)=1,"0"&ASC(G16),ASC($G16))&"."&IF(LEN($H16)=0,"00",IF(LEN($H16)=1,"0"&ASC($H16),ASC($H16))) )) | AD16: =IF($C16="","",MATCH($C16,選手基本データ入力!$AC$10:$AC67,0))
B17: {=IF($C17="","",INDEX(選手基本データ入力!$B$10:$B68, $AD17))} | S17: =IF(B17="","",COUNTIF(B$8:B17,B17)) | U17: =IF($D17="自由形",1, IF($D17="背泳ぎ",2, IF($D17="平泳ぎ",3, IF($D17="バタフライ",4, IF($D17="個人メドレー",5,"" ))))) | V17: =IF($E17="25m",1, IF($E17="50m",2, IF($E17="100m",3, IF($E17="200m",4, IF($E17="400m",6, IF($E17="800m",7, IF($E17="1500m",8, IF($E17="300m",5, IF($E17="75m",9,"" ))))))))) | W17: =ASC($I17) | X17: =IF($C17="","",IF(AND($F17="",$G17="",$H17=""),"99:59:99", ASC($F17)& IF($F17="","",":") & IF(LEN($G17)=0,"00",IF(LEN($G17)=1,IF($F17="",ASC($G17),"0"&ASC($G17)),ASC($G17)))&"."& IF(LEN($H17)=0,"00",IF(LEN($H17)=1,"0"&ASC($H17),ASC($H17))))) | Z17: =IF($E17="","",$U17& IF($V17=1,"0025", IF($V17=2,"0050", IF($V17=3,"0100", IF($V17=4,"0200", IF($V17=5,"0400", IF($V17=6,"0800", IF($V17=7,"1500", IF($V17=8,"0300", IF($V17=9,"0075", )))))))))) | AA17: =IF($C17="","", IF(AND($F17="",$G17="",$H17=""),"99:59:99", IF(LEN($F17)=0,"00", IF(LEN($F17)=1,"0"&ASC($F17),ASC($F17)))&IF(LEN($G17)=1,"0"&ASC(G17),ASC($G17))&"."&IF(LEN($H17)=0,"00",IF(LEN($H17)=1,"0"&ASC($H17),ASC($H17))) )) | AD17: =IF($C17="","",MATCH($C17,選手基本データ入力!$AC$10:$AC68,0))
B18: {=IF($C18="","",INDEX(選手基本データ入力!$B$10:$B69, $AD18))} | S18: =IF(B18="","",COUNTIF(B$8:B18,B18)) | U18: =IF($D18="自由形",1, IF($D18="背泳ぎ",2, IF($D18="平泳ぎ",3, IF($D18="バタフライ",4, IF($D18="個人メドレー",5,"" ))))) | V18: =IF($E18="25m",1, IF($E18="50m",2, IF($E18="100m",3, IF($E18="200m",4, IF($E18="400m",6, IF($E18="800m",7, IF($E18="1500m",8, IF($E18="300m",5, IF($E18="75m",9,"" ))))))))) | W18: =ASC($I18) | X18: =IF($C18="","",IF(AND($F18="",$G18="",$H18=""),"99:59:99", ASC($F18)& IF($F18="","",":") & IF(LEN($G18)=0,"00",IF(LEN($G18)=1,IF($F18="",ASC($G18),"0"&ASC($G18)),ASC($G18)))&"."& IF(LEN($H18)=0,"00",IF(LEN($H18)=1,"0"&ASC($H18),ASC($H18))))) | Z18: =IF($E18="","",$U18& IF($V18=1,"0025", IF($V18=2,"0050", IF($V18=3,"0100", IF($V18=4,"0200", IF($V18=5,"0400", IF($V18=6,"0800", IF($V18=7,"1500", IF($V18=8,"0300", IF($V18=9,"0075", )))))))))) | AA18: =IF($C18="","", IF(AND($F18="",$G18="",$H18=""),"99:59:99", IF(LEN($F18)=0,"00", IF(LEN($F18)=1,"0"&ASC($F18),ASC($F18)))&IF(LEN($G18)=1,"0"&ASC(G18),ASC($G18))&"."&IF(LEN($H18)=0,"00",IF(LEN($H18)=1,"0"&ASC($H18),ASC($H18))) )) | AD18: =IF($C18="","",MATCH($C18,選手基本データ入力!$AC$10:$AC69,0))
B19: {=IF($C19="","",INDEX(選手基本データ入力!$B$10:$B70, $AD19))} | S19: =IF(B19="","",COUNTIF(B$8:B19,B19)) | U19: =IF($D19="自由形",1, IF($D19="背泳ぎ",2, IF($D19="平泳ぎ",3, IF($D19="バタフライ",4, IF($D19="個人メドレー",5,"" ))))) | V19: =IF($E19="25m",1, IF($E19="50m",2, IF($E19="100m",3, IF($E19="200m",4, IF($E19="400m",6, IF($E19="800m",7, IF($E19="1500m",8, IF($E19="300m",5, IF($E19="75m",9,"" ))))))))) | W19: =ASC($I19) | X19: =IF($C19="","",IF(AND($F19="",$G19="",$H19=""),"99:59:99", ASC($F19)& IF($F19="","",":") & IF(LEN($G19)=0,"00",IF(LEN($G19)=1,IF($F19="",ASC($G19),"0"&ASC($G19)),ASC($G19)))&"."& IF(LEN($H19)=0,"00",IF(LEN($H19)=1,"0"&ASC($H19),ASC($H19))))) | Z19: =IF($E19="","",$U19& IF($V19=1,"0025", IF($V19=2,"0050", IF($V19=3,"0100", IF($V19=4,"0200", IF($V19=5,"0400", IF($V19=6,"0800", IF($V19=7,"1500", IF($V19=8,"0300", IF($V19=9,"0075", )))))))))) | AA19: =IF($C19="","", IF(AND($F19="",$G19="",$H19=""),"99:59:99", IF(LEN($F19)=0,"00", IF(LEN($F19)=1,"0"&ASC($F19),ASC($F19)))&IF(LEN($G19)=1,"0"&ASC(G19),ASC($G19))&"."&IF(LEN($H19)=0,"00",IF(LEN($H19)=1,"0"&ASC($H19),ASC($H19))) )) | AD19: =IF($C19="","",MATCH($C19,選手基本データ入力!$AC$10:$AC70,0))
B20: {=IF($C20="","",INDEX(選手基本データ入力!$B$10:$B71, $AD20))} | S20: =IF(B20="","",COUNTIF(B$8:B20,B20)) | U20: =IF($D20="自由形",1, IF($D20="背泳ぎ",2, IF($D20="平泳ぎ",3, IF($D20="バタフライ",4, IF($D20="個人メドレー",5,"" ))))) | V20: =IF($E20="25m",1, IF($E20="50m",2, IF($E20="100m",3, IF($E20="200m",4, IF($E20="400m",6, IF($E20="800m",7, IF($E20="1500m",8, IF($E20="300m",5, IF($E20="75m",9,"" ))))))))) | W20: =ASC($I20) | X20: =IF($C20="","",IF(AND($F20="",$G20="",$H20=""),"99:59:99", ASC($F20)& IF($F20="","",":") & IF(LEN($G20)=0,"00",IF(LEN($G20)=1,IF($F20="",ASC($G20),"0"&ASC($G20)),ASC($G20)))&"."& IF(LEN($H20)=0,"00",IF(LEN($H20)=1,"0"&ASC($H20),ASC($H20))))) | Z20: =IF($E20="","",$U20& IF($V20=1,"0025", IF($V20=2,"0050", IF($V20=3,"0100", IF($V20=4,"0200", IF($V20=5,"0400", IF($V20=6,"0800", IF($V20=7,"1500", IF($V20=8,"0300", IF($V20=9,"0075", )))))))))) | AA20: =IF($C20="","", IF(AND($F20="",$G20="",$H20=""),"99:59:99", IF(LEN($F20)=0,"00", IF(LEN($F20)=1,"0"&ASC($F20),ASC($F20)))&IF(LEN($G20)=1,"0"&ASC(G20),ASC($G20))&"."&IF(LEN($H20)=0,"00",IF(LEN($H20)=1,"0"&ASC($H20),ASC($H20))) )) | AD20: =IF($C20="","",MATCH($C20,選手基本データ入力!$AC$10:$AC71,0))
B21: {=IF($C21="","",INDEX(選手基本データ入力!$B$10:$B72, $AD21))} | S21: =IF(B21="","",COUNTIF(B$8:B21,B21)) | U21: =IF($D21="自由形",1, IF($D21="背泳ぎ",2, IF($D21="平泳ぎ",3, IF($D21="バタフライ",4, IF($D21="個人メドレー",5,"" ))))) | V21: =IF($E21="25m",1, IF($E21="50m",2, IF($E21="100m",3, IF($E21="200m",4, IF($E21="400m",6, IF($E21="800m",7, IF($E21="1500m",8, IF($E21="300m",5, IF($E21="75m",9,"" ))))))))) | W21: =ASC($I21) | X21: =IF($C21="","",IF(AND($F21="",$G21="",$H21=""),"99:59:99", ASC($F21)& IF($F21="","",":") & IF(LEN($G21)=0,"00",IF(LEN($G21)=1,IF($F21="",ASC($G21),"0"&ASC($G21)),ASC($G21)))&"."& IF(LEN($H21)=0,"00",IF(LEN($H21)=1,"0"&ASC($H21),ASC($H21))))) | Z21: =IF($E21="","",$U21& IF($V21=1,"0025", IF($V21=2,"0050", IF($V21=3,"0100", IF($V21=4,"0200", IF($V21=5,"0400", IF($V21=6,"0800", IF($V21=7,"1500", IF($V21=8,"0300", IF($V21=9,"0075", )))))))))) | AA21: =IF($C21="","", IF(AND($F21="",$G21="",$H21=""),"99:59:99", IF(LEN($F21)=0,"00", IF(LEN($F21)=1,"0"&ASC($F21),ASC($F21)))&IF(LEN($G21)=1,"0"&ASC(G21),ASC($G21))&"."&IF(LEN($H21)=0,"00",IF(LEN($H21)=1,"0"&ASC($H21),ASC($H21))) )) | AD21: =IF($C21="","",MATCH($C21,選手基本データ入力!$AC$10:$AC72,0))
B22: {=IF($C22="","",INDEX(選手基本データ入力!$B$10:$B73, $AD22))} | S22: =IF(B22="","",COUNTIF(B$8:B22,B22)) | U22: =IF($D22="自由形",1, IF($D22="背泳ぎ",2, IF($D22="平泳ぎ",3, IF($D22="バタフライ",4, IF($D22="個人メドレー",5,"" ))))) | V22: =IF($E22="25m",1, IF($E22="50m",2, IF($E22="100m",3, IF($E22="200m",4, IF($E22="400m",6, IF($E22="800m",7, IF($E22="1500m",8, IF($E22="300m",5, IF($E22="75m",9,"" ))))))))) | W22: =ASC($I22) | X22: =IF($C22="","",IF(AND($F22="",$G22="",$H22=""),"99:59:99", ASC($F22)& IF($F22="","",":") & IF(LEN($G22)=0,"00",IF(LEN($G22)=1,IF($F22="",ASC($G22),"0"&ASC($G22)),ASC($G22)))&"."& IF(LEN($H22)=0,"00",IF(LEN($H22)=1,"0"&ASC($H22),ASC($H22))))) | Z22: =IF($E22="","",$U22& IF($V22=1,"0025", IF($V22=2,"0050", IF($V22=3,"0100", IF($V22=4,"0200", IF($V22=5,"0400", IF($V22=6,"0800", IF($V22=7,"1500", IF($V22=8,"0300", IF($V22=9,"0075", )))))))))) | AA22: =IF($C22="","", IF(AND($F22="",$G22="",$H22=""),"99:59:99", IF(LEN($F22)=0,"00", IF(LEN($F22)=1,"0"&ASC($F22),ASC($F22)))&IF(LEN($G22)=1,"0"&ASC(G22),ASC($G22))&"."&IF(LEN($H22)=0,"00",IF(LEN($H22)=1,"0"&ASC($H22),ASC($H22))) )) | AD22: =IF($C22="","",MATCH($C22,選手基本データ入力!$AC$10:$AC73,0))
... B307: {=IF($C307="","",INDEX(選手基本データ入力!$B$10:$B358, $AD307))} | S307: =IF(B307="","",COUNTIF(B$8:B307,B307)) | U307: =IF($D307="自由形",1, IF($D307="背泳ぎ",2, IF($D307="平泳ぎ",3, IF($D307="バタフライ",4, IF($D307="個人メドレー",5,"" ))))) | V307: =IF($E307="25m",1, IF($E307="50m",2, IF($E307="100m",3, IF($E307="200m",4, IF($E307="400m",6, IF($E307="800m",7, IF($E307="1500m",8, IF($E307="300m",5, IF($E307="75m",9,"" ))))))))) | W307: =ASC($I307) | X307: =IF($C307="","",IF(AND($F307="",$G307="",$H307=""),"99:59:99", ASC($F307)& IF($F307="","",":") & IF(LEN($G307)=0,"00",IF(LEN($G307)=1,IF($F307="",ASC($G307),"0"&ASC($G307)),ASC($G307)))&"."& IF(LEN($H307)=0,"00",IF(LEN($H307)=1,"0"&ASC($H307),ASC($H307))))) | Z307: =IF($E307="","",$U307& IF($V307=1,"0025", IF($V307=2,"0050", IF($V307=3,"0100", IF($V307=4,"0200", IF($V307=5,"0400", IF($V307=6,"0800", IF($V307=7,"1500", IF($V307=8,"0300", IF($V307=9,"0075", )))))))))) | AA307: =IF($C307="","", IF(AND($F307="",$G307="",$H307=""),"99:59:99", IF(LEN($F307)=0,"00", IF(LEN($F307)=1,"0"&ASC($F307),ASC($F307)))&IF(LEN($G307)=1,"0"&ASC(G307),ASC($G307))&"."&IF(LEN($H307)=0,"00",IF(LEN($H307)=1,"0"&ASC($H307),ASC($H307))) )) | AD307: =IF($C307="","",MATCH($C307,選手基本データ入力!$AC$10:$AC358,0))
B309: ※これ以上必要な場合は適宜上部のセルを引き延ばして拡張してください

Sheet 操作禁止３
A1: 競技会名称 | F1: クラス | K1: 性別 | P1: 種目 | U1: 距離
A2: 第28回 北海道学生公認記録会 | F2: クラスコード | G2: クラス名 | H2: クラス名カナ | I2: クラスコード出力用 | K2: 性別コード | L2: 性別 | M2: 性別英字 | N2: 性別コード出力用 | P2: 種目コード | Q2: 種目 | R2: 種目コード出力用 | S2: 種目コードTxt用 | U2: 距離コード | V2: 距離 | W2: リレー距離 | X2: 距離csv用 | Y2: 距離コード出力用 | Z2: 距離コードTxt用
A3: 大会名を「操作禁止3 A2 セル」に記載 | F3: 03 | G3: 北海道（対抗戦正式） | H3: ﾎｯｶｲﾄﾞｳ | I3: 03 | K3: 1 | L3: 男子 | M3: Men | N3: 1 | P3: 1 | Q3: 自由形 | R3: 1 | S3: 1 | U3: 1 | V3: 25m | X3: 0025 | Y3: 1 | Z3: 1
A4: 大会初日・年歴基準日 | F4: 05 | G4: 北海道OP | H4: OP | I4: 05 | K4: 2 | L4: 女子 | M4: Women | N4: 2 | P4: 2 | Q4: 背泳ぎ | R4: 2 | S4: 2 | U4: 2 | V4: 50m | X4: 0050 | Y4: 2 | Z4: 2
A5: 45970 | K5: 3 | L5: 混成 | M5: Mixed | N5: 3 | P5: 3 | Q5: 平泳ぎ | R5: 3 | S5: 3 | U5: 3 | V5: 100m | W5: ４×25m | X5: 0100 | Y5: 3 | Z5: 3
A6: 大会終了日 | K6: 4 | L6: 混合 | M6: Mixed | N6: 4 | P6: 4 | Q6: バタフライ | R6: 4 | S6: 4 | U6: 4 | V6: 200m | W6: ４×50m | X6: 0200 | Y6: 4 | Z6: 4
A7: 45970 | P7: 5 | Q7: 個人メドレー | R7: 5 | S7: 5 | U7: 5 | V7: 400m | W7: ４×100m | X7: 0400 | Y7: 5 | Z7: 6
P8: 6 | Q8: フリーリレー | R8: 6 | S8: 6 | U8: 6 | V8: 800m | W8: ４×200m | X8: 0800 | Y8: 6 | Z8: 7
P9: 7 | Q9: メドレーリレー | R9: 7 | S9: 7 | U9: 7 | V9: 1500m | W9: ４×375m | X9: 1500 | Y9: 7 | Z9: 8
U10: 8 | V10: 300m | W10: ４×75m | X10: 0300 | Y10: 8
K11: 学種 | U11: 9 | V11: 75m | X11: 0075 | Y11: 9
K12: 学種コード | L12: 学種 | M12: 学種略称 | N12: 学年開始 | O12: 学年終了 | P12: 学種コード出力用
K13: 0 | L13: 幼児 | M13: 幼 | N13: 0 | O13: 0 | P13: 5
K14: 1 | L14: 小学 | M14: 小 | N14: 1 | O14: 6 | P14: 1
K15: 2 | L15: 中学 | M15: 中 | N15: 1 | O15: 3 | P15: 2
K16: 3 | L16: 高校 | M16: 高 | N16: 1 | O16: 3 | P16: 3
K17: 4 | L17: 大学 | M17: 大 | N17: 1 | O17: 8 | P17: 4
K18: 5 | L18: 一般 | M18: 一般 | N18: 0 | O18: 0 | P18: 5
K19: 6 | L19: 高専 | M19: 専 | N19: 1 | O19: 5 | P19: 6
A21: 注意事項：学種「幼児」は取り込み時にエラーとなり取り込むことができません。
A22: そのため形式的に「５：一般」となるように変換しています。
A23: 取り込んだうえでSEIKOリザルト上で手作業で修正してください。
A25: クラスを追加する際はクラステーブルに追加を行ってください
A26: クラス番号は「９９」まで（２桁）です
A27: テキストファイルを用いて取り込みをする場合（操作禁止１シートをcsvにコピーしない場合）
A28: は、操作禁止１を削除することでかなり軽く運用できます
